BEGIN:VCALENDAR
VERSION:2.0
PRODID:icalendar-ruby
CALSCALE:GREGORIAN
BEGIN:VEVENT
DTSTAMP:20260424T101821Z
UID:83f23ec2-9eef-4fd0-80c5-743293865ffe
DTSTART;VALUE=DATE:20250815
DESCRIPTION:Property ID# 595009\, Locatoin: 8 Kent Terrace\, Wellington (wi
 ll not be sold prior)\, Time: 12:00PM
SUMMARY:Auction for 
END:VEVENT
END:VCALENDAR
