BEGIN:VCALENDAR
VERSION:2.0
PRODID:icalendar-ruby
CALSCALE:GREGORIAN
BEGIN:VEVENT
DTSTAMP:20260420T103105Z
UID:b9fdc874-c1bd-4bdf-8ce3-eaeac470f42c
DTSTART;VALUE=DATE:20251126
DESCRIPTION:Property ID# 599625\, Locatoin: Ray White Kilbirnie ( 30 Bay Ro
 ad\, Kilbirnie\, Wellington) \, Time: 2:00PM
SUMMARY:Auction for 
END:VEVENT
END:VCALENDAR
