BEGIN:VCALENDAR
VERSION:2.0
PRODID:icalendar-ruby
CALSCALE:GREGORIAN
BEGIN:VEVENT
DTSTAMP:20260424T101334Z
UID:0661ea6c-b91c-4c2d-adda-b966961df1b8
DTSTART;VALUE=DATE:20251127
DESCRIPTION:Property ID# 599929\, Locatoin: 8 Kent Terrace\, Wellington (wi
 ll not be sold prior)\, Time: 2:00PM
SUMMARY:Auction for 
END:VEVENT
END:VCALENDAR
