BEGIN:VCALENDAR
VERSION:2.0
PRODID:icalendar-ruby
CALSCALE:GREGORIAN
BEGIN:VEVENT
DTSTAMP:20260420T135051Z
UID:b38c0180-8fc3-4700-941d-549828f6a284
DTSTART;VALUE=DATE:20260128
DESCRIPTION:Property ID# 601736\, Locatoin: 8 Kent Terrace\, Wellington\, T
 ime: 12:00PM
SUMMARY:Auction for 
END:VEVENT
END:VCALENDAR
