BEGIN:VCALENDAR
VERSION:2.0
PRODID:icalendar-ruby
CALSCALE:GREGORIAN
BEGIN:VEVENT
DTSTAMP:20260420T135312Z
UID:27349a69-ef7d-4722-948e-e3f812e0324c
DTSTART;VALUE=DATE:20260305
DESCRIPTION:Property ID# 603069\, Locatoin: 8 Kent Terrace\, Wellington\, T
 ime: 12:00PM
SUMMARY:Auction for 
END:VEVENT
END:VCALENDAR
