BEGIN:VCALENDAR
VERSION:2.0
PRODID:icalendar-ruby
CALSCALE:GREGORIAN
BEGIN:VEVENT
DTSTAMP:20260424T100411Z
UID:0149ec75-1b46-4d14-8420-ab6ea9ee2ee0
DTSTART;VALUE=DATE:20260402
DESCRIPTION:Property ID# 605156\, Locatoin: 8 Kent Terrace\, Wellington\, T
 ime: 1:00PM
SUMMARY:Auction for 
END:VEVENT
END:VCALENDAR
