BEGIN:VCALENDAR
VERSION:2.0
PRODID:icalendar-ruby
CALSCALE:GREGORIAN
BEGIN:VEVENT
DTSTAMP:20260420T102929Z
UID:4b0b9d53-cc7d-4f54-95c3-321cc9ca1247
DTSTART;VALUE=DATE:20260507
DESCRIPTION:Property ID# 606172\, Locatoin: 8 Kent Terrace\, Wellington\, T
 ime: 12:00PM
SUMMARY:Auction for 14/9 Ebor Street
END:VEVENT
END:VCALENDAR
